BEGIN:VCALENDAR
VERSION:2.0
PRODID:-//Table Tennis Ulster - ECPv6.15.17.1//NONSGML v1.0//EN
CALSCALE:GREGORIAN
METHOD:PUBLISH
X-WR-CALNAME:Table Tennis Ulster
X-ORIGINAL-URL:https://tabletennisulster.com
X-WR-CALDESC:Events for Table Tennis Ulster
REFRESH-INTERVAL;VALUE=DURATION:PT1H
X-Robots-Tag:noindex
X-PUBLISHED-TTL:PT1H
BEGIN:VTIMEZONE
TZID:Europe/London
BEGIN:DAYLIGHT
TZOFFSETFROM:+0000
TZOFFSETTO:+0100
TZNAME:BST
DTSTART:20250330T010000
END:DAYLIGHT
BEGIN:STANDARD
TZOFFSETFROM:+0100
TZOFFSETTO:+0000
TZNAME:GMT
DTSTART:20251026T010000
END:STANDARD
BEGIN:DAYLIGHT
TZOFFSETFROM:+0000
TZOFFSETTO:+0100
TZNAME:BST
DTSTART:20260329T010000
END:DAYLIGHT
BEGIN:STANDARD
TZOFFSETFROM:+0100
TZOFFSETTO:+0000
TZNAME:GMT
DTSTART:20261025T010000
END:STANDARD
BEGIN:DAYLIGHT
TZOFFSETFROM:+0000
TZOFFSETTO:+0100
TZNAME:BST
DTSTART:20270328T010000
END:DAYLIGHT
BEGIN:STANDARD
TZOFFSETFROM:+0100
TZOFFSETTO:+0000
TZNAME:GMT
DTSTART:20271031T010000
END:STANDARD
END:VTIMEZONE
BEGIN:VEVENT
DTSTART;TZID=Europe/London:20260411T110000
DTEND;TZID=Europe/London:20260411T170000
DTSTAMP:20260422T232732
CREATED:20250617T081137Z
LAST-MODIFIED:20260409T164125Z
UID:5043-1775905200-1775926800@tabletennisulster.com
SUMMARY:Ballymena Junior Challenger
DESCRIPTION:Venue: Ballymena Academy \nENTER CLOSED!
URL:https://tabletennisulster.com/event/ballymena-junior-challenger/
LOCATION:Ballymena Academy\, 89 Galgorm Road\, Ballymena\, BT42 1AJ\, United Kingdom
CATEGORIES:Junior
END:VEVENT
BEGIN:VEVENT
DTSTART;TZID=Europe/London:20260404T103000
DTEND;TZID=Europe/London:20260404T190000
DTSTAMP:20260422T232732
CREATED:20260213T164927Z
LAST-MODIFIED:20260213T164927Z
UID:6191-1775298600-1775329200@tabletennisulster.com
SUMMARY:The Jimmy O’Hara Memorial Cup Charity Open
DESCRIPTION:The Jimmy O’Hara Memorial Cup Charity Open Singles and Consolation For Parkinsons Ballymena & District Branch \nSaturday 4th April  2026 \nClosing date for entries: Thursday 2nd  April 2026 \nHosted by Ballymena TT Club in Ballymena Academy Gym\, 89 Galgorm Road\, Ballymena BT42 1AJ \nMany of you will have known Jimmy O’Hara who sadly died in 2023 at the age of 95.  Jimmy played for Ireland in the 1940s and 1950s and in his later years he represented our club with distinction as both player and Club President. Jimmy was the welcoming face at our club with the friendly handshake for all visitors. He was a wonderful ambassador for table tennis – a fact that was acknowledged by Table Tennis Ireland in 2013 when they awarded him a glass plaque for his services to table tennis. But most of all he was a faithful friend who is sadly missed by all at our club who knew him \nWe aim to run this tournament each year to benefit local Charities with all proceeds from this event \, now in its third year\, going to Parkinson’s NI (Ballymena & District Branch) \nEntry Fee: £10 payable on the day. \nEntries/queries sent to n5mcb@btinternet.com  \nEvent Schedule \nRegistration from 10.30am \nStart: 11am \nGroup stage: 11am – 1.30pm \nOpen Knock Out: 1.30pm  \nConsolation KO: starts 2.00pm \nPresentation 4.30pm \nEntrance to the Hall is at the side of the building – take first right along main entrance and park at the hockey pitches. The Hall entrance is to your left.
URL:https://tabletennisulster.com/event/the-jimmy-ohara-memorial-cup-charity-open/
ATTACH;FMTTYPE=image/png:https://tabletennisulster.com/wp-content/uploads/2026/02/Screenshot-2026-02-13-at-16.49.11.png
END:VEVENT
BEGIN:VEVENT
DTSTART;TZID=Europe/London:20260326T100000
DTEND;TZID=Europe/London:20260326T150000
DTSTAMP:20260422T232732
CREATED:20250617T113709Z
LAST-MODIFIED:20260218T144351Z
UID:5069-1774519200-1774537200@tabletennisulster.com
SUMMARY:Primary school regional event- Northeast
DESCRIPTION:ENTRY OPEN NOW!\nAGE CATEGORIES  \nU12 born on or after 01.07.13 \nU10 born on or after 01.07.15 \nVenue: Ballymoney Elim Church\, The Warren\, Knock Road\, Ballymoney BT53 6LX \n 
URL:https://tabletennisulster.com/event/primary-school-regional-event-northeast/
LOCATION:Eilm church hall Ballymoney\, Eilm church hall\, Ballymoney
CATEGORIES:Schools
END:VEVENT
BEGIN:VEVENT
DTSTART;VALUE=DATE:20260321
DTEND;VALUE=DATE:20260323
DTSTAMP:20260422T232732
CREATED:20260225T101304Z
LAST-MODIFIED:20260225T101316Z
UID:6242-1774051200-1774223999@tabletennisulster.com
SUMMARY:National Championships
DESCRIPTION:
URL:https://tabletennisulster.com/event/national-championships/
LOCATION:Basketball Arena\, Dublin
CATEGORIES:Junior,National Ranking,Senior
END:VEVENT
BEGIN:VEVENT
DTSTART;TZID=Europe/London:20260319T100000
DTEND;TZID=Europe/London:20260319T153000
DTSTAMP:20260422T232732
CREATED:20250617T114438Z
LAST-MODIFIED:20260313T153800Z
UID:5083-1773914400-1773934200@tabletennisulster.com
SUMMARY:Secondary School Individual finals
DESCRIPTION:Entries closed
URL:https://tabletennisulster.com/event/secondary-school-individual-finals/
LOCATION:South Lakes Leisure Centre\, Craigavon
CATEGORIES:Schools
END:VEVENT
BEGIN:VEVENT
DTSTART;VALUE=DATE:20260314
DTEND;VALUE=DATE:20260316
DTSTAMP:20260422T232732
CREATED:20250617T082015Z
LAST-MODIFIED:20260307T162405Z
UID:5059-1773446400-1773619199@tabletennisulster.com
SUMMARY:Ulster Closed Senior & Junior Championships
DESCRIPTION:ENTRY OPEN! \nVenue: South Lakes Leisure Centre\, 1 Lake Road\, Craigavon BT64 1AS \nNO ENTRY FEES WILL BE ACCEPTED ON THE DAY OF THE EVENT. \n TOURNAMENT REFEREE ADRIAN BROWN – aidyvbrown@gmail.com \nEntry Closed
URL:https://tabletennisulster.com/event/ulster-championships/
LOCATION:South Lakes Leisure Centre\, Craigavon
CATEGORIES:Junior,Senior
END:VEVENT
BEGIN:VEVENT
DTSTART;TZID=Europe/London:20260307T110000
DTEND;TZID=Europe/London:20260307T160000
DTSTAMP:20260422T232732
CREATED:20250617T080948Z
LAST-MODIFIED:20260307T162819Z
UID:5041-1772881200-1772899200@tabletennisulster.com
SUMMARY:Monaghan Junior Challenger
DESCRIPTION:ENTRY OPEN! \n\nVenue: Monaghan Collegiate\, Corlat\, Monaghan H18 XO27 Ireland \nThe Ulster Junior Challenger is a fun and competitive table tennis tournament for boys and girls under 19 years old\, taking place at Monaghan. Open to all skill levels – from beginners to more advanced players – the event features four divisions to ensure fair and enjoyable competition for everyone. \n📊 Ulster ranking points will be awarded in all divisions.🕤 Tournament starts at 11.00 am.👥 All players start in groups\, with progression based on results – ensuring plenty of matches for everyone! \nEntry closed
URL:https://tabletennisulster.com/event/monaghan-junior-challenger/
LOCATION:Monaghan Collegiate\, Monaghan Collegiate School\, Corlat\, Monaghan\, H18 XO27\, Ireland
CATEGORIES:Junior
END:VEVENT
BEGIN:VEVENT
DTSTART;TZID=Europe/London:20260305T100000
DTEND;TZID=Europe/London:20260305T150000
DTSTAMP:20260422T232732
CREATED:20250617T113559Z
LAST-MODIFIED:20260216T103354Z
UID:5067-1772704800-1772722800@tabletennisulster.com
SUMMARY:Primary school regional event- Southeast
DESCRIPTION:ENTRY NOW OPEN! \nVenue: South Lake Leisure Centre\, 1 Lake Road\, Craigavon BT64 1AS\nAGE CATEGORIES  \nU12 born on or after 01.07.13 \nU10 born on or after 01.07.15 \n  \n﻿
URL:https://tabletennisulster.com/event/primary-school-regional-event-southeast/
LOCATION:South Lakes Leisure Centre\, Craigavon
CATEGORIES:Schools
END:VEVENT
BEGIN:VEVENT
DTSTART;TZID=Europe/London:20260301T110000
DTEND;TZID=Europe/London:20260301T130000
DTSTAMP:20260422T232732
CREATED:20260216T112853Z
LAST-MODIFIED:20260216T112853Z
UID:6201-1772362800-1772370000@tabletennisulster.com
SUMMARY:Coach Development Clinic with Colum Slevin
DESCRIPTION:Table Tennis Ulster are hosting a Coach Development Clinic led by Colum Slevin\, one of Ireland’s greatest ever players. Colum has represented Ireland at multiple World and European events and played for many years in the German professional table tennis league\, achieving a world ranking of 90. His coaches included Stellan Bengtsson (former Swedish World Champion). \nColum brings a wealth of experience in high‑performance training and coaching and is also a qualified physiotherapist\, practising in Dublin. \nThe clinic will focus on physical and mental preparation for table tennis. Coaches will have the opportunity to learn how Colum approached his match preparation and benefit from his professional physiotherapy insight. \nCoaches will also be able to engage with Colum informally during lunch provided by Table Tennis Ulster. \nIn the afternoon (2.00pm–5.00pm)\, Colum will lead the TTU squads in a training session; coaches are invited to stay on\, observe\, and support this session. \nThis opportunity is open to coaches free of charge\, and lunch will be provided. \nTo confirm attendance\, please email by Thursday 26th February 2026:\nttuadmin@tabletennisireland.ie
URL:https://tabletennisulster.com/event/coach-development-clinic-with-colum-slevin/
LOCATION:Lisburn Racquets Club (TTU)\, 36 Belfast Road\, Lisburn\, BT27 4AS\, United Kingdom
CATEGORIES:Coach Development
END:VEVENT
BEGIN:VEVENT
DTSTART;TZID=Europe/London:20260228T100000
DTEND;TZID=Europe/London:20260228T170000
DTSTAMP:20260422T232732
CREATED:20250617T081912Z
LAST-MODIFIED:20260221T103801Z
UID:5057-1772272800-1772298000@tabletennisulster.com
SUMMARY:Sport NI Ulster Series Craigavon
DESCRIPTION:ENTRY NOW CLOSED! \nVenue\n\n\nSouth Lakes Leisure Centre\, Craigavon
URL:https://tabletennisulster.com/event/sport-ni-ulster-series-craigavon/
LOCATION:South Lakes Leisure Centre\, Craigavon
CATEGORIES:Senior
END:VEVENT
END:VCALENDAR