BEGIN:VCALENDAR
VERSION:2.0
PRODID:-//Table Tennis Ulster - ECPv6.15.17.1//NONSGML v1.0//EN
CALSCALE:GREGORIAN
METHOD:PUBLISH
X-WR-CALNAME:Table Tennis Ulster
X-ORIGINAL-URL:https://tabletennisulster.com
X-WR-CALDESC:Events for Table Tennis Ulster
REFRESH-INTERVAL;VALUE=DURATION:PT1H
X-Robots-Tag:noindex
X-PUBLISHED-TTL:PT1H
BEGIN:VTIMEZONE
TZID:Europe/London
BEGIN:DAYLIGHT
TZOFFSETFROM:+0000
TZOFFSETTO:+0100
TZNAME:BST
DTSTART:20250330T010000
END:DAYLIGHT
BEGIN:STANDARD
TZOFFSETFROM:+0100
TZOFFSETTO:+0000
TZNAME:GMT
DTSTART:20251026T010000
END:STANDARD
BEGIN:DAYLIGHT
TZOFFSETFROM:+0000
TZOFFSETTO:+0100
TZNAME:BST
DTSTART:20260329T010000
END:DAYLIGHT
BEGIN:STANDARD
TZOFFSETFROM:+0100
TZOFFSETTO:+0000
TZNAME:GMT
DTSTART:20261025T010000
END:STANDARD
BEGIN:DAYLIGHT
TZOFFSETFROM:+0000
TZOFFSETTO:+0100
TZNAME:BST
DTSTART:20270328T010000
END:DAYLIGHT
BEGIN:STANDARD
TZOFFSETFROM:+0100
TZOFFSETTO:+0000
TZNAME:GMT
DTSTART:20271031T010000
END:STANDARD
END:VTIMEZONE
BEGIN:VEVENT
DTSTART;TZID=Europe/London:20260514T190000
DTEND;TZID=Europe/London:20260514T210000
DTSTAMP:20260422T225810
CREATED:20260416T100703Z
LAST-MODIFIED:20260416T102840Z
UID:6345-1778785200-1778792400@tabletennisulster.com
SUMMARY:2026 Table Tennis Ulster Annual General Meeting (AGM)
DESCRIPTION:We are pleased to announce that the 2026 Table Tennis Ulster Annual General Meeting (AGM) will take place as follows: \nDate: Thursday 14th May\nTime: 7:00pm\nVenue: Lisburn Racquets Club\, Lisburn \nIf you can attend\, please advise Magdalena Rodycz-Middleton at ttuadmin@tabletennisireland.ie. \nPlease note that only TTI affiliated members are eligible to vote at the AGM. \nWe look forward to your attendance. \nKind regards\, \nTable Tennis Ulster Team
URL:https://tabletennisulster.com/event/2026-table-tennis-ulster-annual-general-meeting-agm/
LOCATION:Lisburn Racquets Club (TTU)\, 36 Belfast Road\, Lisburn\, BT27 4AS\, United Kingdom
ATTACH;FMTTYPE=image/png:https://tabletennisulster.com/wp-content/uploads/2026/04/AGM.png
END:VEVENT
END:VCALENDAR